BEGIN:VCALENDAR
VERSION:2.0
PRODID:-//GKMI Pengharapan - ECPv4.6.14.1//NONSGML v1.0//EN
CALSCALE:GREGORIAN
METHOD:PUBLISH
X-WR-CALNAME:GKMI Pengharapan
X-ORIGINAL-URL:https://gkmipengharapan.org
X-WR-CALDESC:Events for GKMI Pengharapan
BEGIN:VEVENT
DTSTART;TZID=UTC+7:20260417T080000
DTEND;TZID=UTC+7:20260417T170000
DTSTAMP:20260421T084140
CREATED:20260408T080224Z
LAST-MODIFIED:20260408T080224Z
UID:37822-1776412800-1776445200@gkmipengharapan.org
SUMMARY:Happy Birthday\, Ibu Rachel Anna Listijawati!
DESCRIPTION:Segenap Hamba Tuhan\, Majelis  dan Jemaat GKMI Pengharapan mengucapkan SELAMAT BERBAHAGIA\, atas Ulang Tahun Ibu Rachel Anna Listijawati!\nTuhan memberkati!\n
URL:https://gkmipengharapan.org/event/happy-birthday-ibu-rachel-anna-listijawati-7/
CATEGORIES:Happy Birthday
END:VEVENT
END:VCALENDAR