BEGIN:VCALENDAR
VERSION:2.0
PRODID:-//GKMI Pengharapan - ECPv4.6.14.1//NONSGML v1.0//EN
CALSCALE:GREGORIAN
METHOD:PUBLISH
X-WR-CALNAME:GKMI Pengharapan
X-ORIGINAL-URL:https://gkmipengharapan.org
X-WR-CALDESC:Events for GKMI Pengharapan
BEGIN:VEVENT
DTSTART;TZID=UTC+7:20260420T080000
DTEND;TZID=UTC+7:20260420T170000
DTSTAMP:20260420T113849
CREATED:20260418T070425Z
LAST-MODIFIED:20260418T070425Z
UID:37858-1776672000-1776704400@gkmipengharapan.org
SUMMARY:Happy Birthday\, Bp. Mark Kenny Williams!
DESCRIPTION:Segenap Hamba Tuhan\, Majelis  dan Jemaat GKMI Pengharapan mengucapkan SELAMAT BERBAHAGIA\, atas Ulang Tahun Bp. Mark Kenny Williams!\nTuhan memberkati!\n
URL:https://gkmipengharapan.org/event/happy-birthday-bp-mark-kenny-williams-3/
CATEGORIES:Happy Birthday
END:VEVENT
END:VCALENDAR