BEGIN:VCALENDAR
VERSION:2.0
PRODID:-//GKMI Pengharapan - ECPv4.6.14.1//NONSGML v1.0//EN
CALSCALE:GREGORIAN
METHOD:PUBLISH
X-WR-CALNAME:GKMI Pengharapan
X-ORIGINAL-URL:https://gkmipengharapan.org
X-WR-CALDESC:Events for GKMI Pengharapan
BEGIN:VEVENT
DTSTART;VALUE=DATE:20260427
DTEND;VALUE=DATE:20260428
DTSTAMP:20260420T114110
CREATED:20180405T031830Z
LAST-MODIFIED:20180405T031830Z
UID:31760-1777248000-1777334399@gkmipengharapan.org
SUMMARY:Happy Birthday Jericho Oliver Sudiro
DESCRIPTION:Segenap Hamba Tuhan\, Majelis dan  Jemaat GKMI Pengharapan mengucapkan SELAMAT ULANG TAHUN kepada Jericho Oliver Sudiro. \nTuhan Yesus memberkati Anda \n
URL:https://gkmipengharapan.org/event/jericho-oliver-sudiro/2026-04-27/
LOCATION:Jl Raya Hibrida Blok QK 1/3 Kelapa Gading Permai\, Jakarta\, DKI Jakarta\, 14240\, Indonesia
GEO:-6.14602;106.90639
X-APPLE-STRUCTURED-LOCATION;VALUE=URI;X-ADDRESS=Jl Raya Hibrida Blok QK 1/3 Kelapa Gading Permai Jakarta DKI Jakarta 14240 Indonesia;X-APPLE-RADIUS=500;X-TITLE=Jl Raya Hibrida Blok QK 1/3 Kelapa Gading Permai:geo:106.90639,-6.14602
CATEGORIES:Happy Birthday
END:VEVENT
BEGIN:VEVENT
DTSTART;VALUE=DATE:20260427
DTEND;VALUE=DATE:20260428
DTSTAMP:20260420T114110
CREATED:20180420T031520Z
LAST-MODIFIED:20180420T031520Z
UID:31759-1777248000-1777334399@gkmipengharapan.org
SUMMARY:Happy Birthday Ibu Renata
DESCRIPTION:Segenap Hamba Tuhan\, Majelis dan  Jemaat GKMI Pengharapan mengucapkan SELAMAT ULANG TAHUN kepada Ibu Renata. \nTuhan Yesus memberkati Anda \n
URL:https://gkmipengharapan.org/event/renata/2026-04-27/
LOCATION:Jl Raya Hibrida Blok QK 1/3 Kelapa Gading Permai\, Jakarta\, DKI Jakarta\, 14240\, Indonesia
GEO:-6.14602;106.90639
X-APPLE-STRUCTURED-LOCATION;VALUE=URI;X-ADDRESS=Jl Raya Hibrida Blok QK 1/3 Kelapa Gading Permai Jakarta DKI Jakarta 14240 Indonesia;X-APPLE-RADIUS=500;X-TITLE=Jl Raya Hibrida Blok QK 1/3 Kelapa Gading Permai:geo:106.90639,-6.14602
CATEGORIES:Happy Birthday
END:VEVENT
BEGIN:VEVENT
DTSTART;VALUE=DATE:20260427
DTEND;VALUE=DATE:20260428
DTSTAMP:20260420T114110
CREATED:20180510T103757Z
LAST-MODIFIED:20180510T103757Z
UID:31761-1777248000-1777334399@gkmipengharapan.org
SUMMARY:Happy Birthday Jennifer Callista Gunawan
DESCRIPTION:Segenap Hamba Tuhan\, Majelis dan  Jemaat GKMI Pengharapan mengucapkan SELAMAT ULANG TAHUN kepada Jennifer Callista Gunawan. \nTuhan Yesus memberkati Anda \n
URL:https://gkmipengharapan.org/event/happy-birthday-jennifer-callista-gunawan/2026-04-27/
LOCATION:Jl Raya Hibrida Blok QK 1/3 Kelapa Gading Permai\, Jakarta\, DKI Jakarta\, 14240\, Indonesia
GEO:-6.14602;106.90639
X-APPLE-STRUCTURED-LOCATION;VALUE=URI;X-ADDRESS=Jl Raya Hibrida Blok QK 1/3 Kelapa Gading Permai Jakarta DKI Jakarta 14240 Indonesia;X-APPLE-RADIUS=500;X-TITLE=Jl Raya Hibrida Blok QK 1/3 Kelapa Gading Permai:geo:106.90639,-6.14602
CATEGORIES:Happy Birthday
END:VEVENT
END:VCALENDAR