BEGIN:VCALENDAR
VERSION:2.0
PRODID:-//GKMI Pengharapan - ECPv4.6.14.1//NONSGML v1.0//EN
CALSCALE:GREGORIAN
METHOD:PUBLISH
X-WR-CALNAME:GKMI Pengharapan
X-ORIGINAL-URL:https://gkmipengharapan.org
X-WR-CALDESC:Events for GKMI Pengharapan
BEGIN:VEVENT
DTSTART;VALUE=DATE:20260515
DTEND;VALUE=DATE:20260516
DTSTAMP:20260420T130804
CREATED:20180519T125536Z
LAST-MODIFIED:20180519T125536Z
UID:31958-1778803200-1778889599@gkmipengharapan.org
SUMMARY:Happy Birthday\, Bp. Anton Sri Probiyantono!
DESCRIPTION:Segenap Hamba Tuhan\, Majelis\, & Jemaat GKMI Pengharapan mengucapkan SELAMAT BERBAHAGIA! \n
URL:https://gkmipengharapan.org/event/happy-birthday-bp-anton-sri-probiyantono/2026-05-15/
CATEGORIES:Happy Birthday
END:VEVENT
END:VCALENDAR