BEGIN:VCALENDAR
VERSION:2.0
PRODID:-//GKMI Pengharapan - ECPv4.6.14.1//NONSGML v1.0//EN
CALSCALE:GREGORIAN
METHOD:PUBLISH
X-WR-CALNAME:GKMI Pengharapan
X-ORIGINAL-URL:https://gkmipengharapan.org
X-WR-CALDESC:Events for GKMI Pengharapan
BEGIN:VEVENT
DTSTART;VALUE=DATE:20260525
DTEND;VALUE=DATE:20260526
DTSTAMP:20260420T131356
CREATED:20180519T130214Z
LAST-MODIFIED:20180519T130214Z
UID:32027-1779667200-1779753599@gkmipengharapan.org
SUMMARY:Happy Birthday\, Sdri. Ngamira!
DESCRIPTION:Segenap Hamba Tuhan\, Majelis  dan Jemaat GKMI Pengharapan mengucapkan SELAMAT BERBAHAGIA\, atas Ulang Tahun Sdri. Ngamira!\nTuhan memberkati!\n
URL:https://gkmipengharapan.org/event/happy-birthday-sdri-ngamira/2026-05-25/
CATEGORIES:Happy Birthday
END:VEVENT
END:VCALENDAR