BEGIN:VCALENDAR
VERSION:2.0
PRODID:-//GKMI Pengharapan - ECPv4.6.14.1//NONSGML v1.0//EN
CALSCALE:GREGORIAN
METHOD:PUBLISH
X-WR-CALNAME:GKMI Pengharapan
X-ORIGINAL-URL:https://gkmipengharapan.org
X-WR-CALDESC:Events for GKMI Pengharapan
BEGIN:VEVENT
DTSTART;VALUE=DATE:20270516
DTEND;VALUE=DATE:20270517
DTSTAMP:20260421T090143
CREATED:20180519T125807Z
LAST-MODIFIED:20180519T125807Z
UID:35788-1810425600-1810511999@gkmipengharapan.org
SUMMARY:Happy Birthday\, Pdt. Samuel Suwarno!
DESCRIPTION:Segenap Hamba Tuhan\, Majelis\, & Jemaat GKMI Pengharapan mengucapkan SELAMAT BERBAHAGIA! \n
URL:https://gkmipengharapan.org/event/happy-birthday-pdt-samuel-suwarno/2027-05-16/
CATEGORIES:Happy Birthday
END:VEVENT
END:VCALENDAR