BEGIN:VCALENDAR
VERSION:2.0
PRODID:-//GKMI Pengharapan - ECPv4.6.14.1//NONSGML v1.0//EN
CALSCALE:GREGORIAN
METHOD:PUBLISH
X-WR-CALNAME:GKMI Pengharapan
X-ORIGINAL-URL:https://gkmipengharapan.org
X-WR-CALDESC:Events for GKMI Pengharapan
BEGIN:VEVENT
DTSTART;VALUE=DATE:20270522
DTEND;VALUE=DATE:20270523
DTSTAMP:20260421T085156
CREATED:20180519T130121Z
LAST-MODIFIED:20180519T130121Z
UID:35835-1810944000-1811030399@gkmipengharapan.org
SUMMARY:Happy Birthday\, Bp. Sandi Gunawan!
DESCRIPTION:Segenap Hamba Tuhan\, Majelis\, & Jemaat GKMI Pengharapan mengucapkan SELAMAT BERBAHAGIA! \n
URL:https://gkmipengharapan.org/event/happy-birthday-bp-sandi-gunawan/2027-05-22/
CATEGORIES:Happy Birthday
END:VEVENT
END:VCALENDAR